BEGIN:VCALENDAR
VERSION:2.0
PRODID:-//Purebred Mini Jersey Society, Inc. - ECPv6.15.20//NONSGML v1.0//EN
CALSCALE:GREGORIAN
METHOD:PUBLISH
X-WR-CALNAME:Purebred Mini Jersey Society, Inc.
X-ORIGINAL-URL:https://purebredminijerseys.org
X-WR-CALDESC:Events for Purebred Mini Jersey Society, Inc.
REFRESH-INTERVAL;VALUE=DURATION:PT1H
X-Robots-Tag:noindex
X-PUBLISHED-TTL:PT1H
BEGIN:VTIMEZONE
TZID:America/Los_Angeles
BEGIN:DAYLIGHT
TZOFFSETFROM:-0800
TZOFFSETTO:-0700
TZNAME:PDT
DTSTART:20240310T100000
END:DAYLIGHT
BEGIN:STANDARD
TZOFFSETFROM:-0700
TZOFFSETTO:-0800
TZNAME:PST
DTSTART:20241103T090000
END:STANDARD
BEGIN:DAYLIGHT
TZOFFSETFROM:-0800
TZOFFSETTO:-0700
TZNAME:PDT
DTSTART:20250309T100000
END:DAYLIGHT
BEGIN:STANDARD
TZOFFSETFROM:-0700
TZOFFSETTO:-0800
TZNAME:PST
DTSTART:20251102T090000
END:STANDARD
BEGIN:DAYLIGHT
TZOFFSETFROM:-0800
TZOFFSETTO:-0700
TZNAME:PDT
DTSTART:20260308T100000
END:DAYLIGHT
BEGIN:STANDARD
TZOFFSETFROM:-0700
TZOFFSETTO:-0800
TZNAME:PST
DTSTART:20261101T090000
END:STANDARD
END:VTIMEZONE
BEGIN:VEVENT
DTSTART;TZID=America/Los_Angeles:20250515T170000
DTEND;TZID=America/Los_Angeles:20250515T180000
DTSTAMP:20260424T195226
CREATED:20250219T173417Z
LAST-MODIFIED:20260205T225500Z
UID:5450-1747328400-1747332000@purebredminijerseys.org
SUMMARY:Webinar: Deworming & Pest Control
DESCRIPTION:If you’ve been wondering what you should be doing to protect your Mini Jersey dairy cows\, then this is the webinar for you! We invite you to join a few PMJS Lifetime Members as we discuss external and internal parasite identification\, as well as the natural and over-the-counter treatment options.
URL:https://purebredminijerseys.org/event/deworming-pest-control/
CATEGORIES:Webinars
ATTACH;FMTTYPE=image/jpeg:https://purebredminijerseys.org/wp-content/uploads/2025/02/Dewarming-Pest-Control-Cover.jpg
END:VEVENT
END:VCALENDAR