BEGIN:VCALENDAR
VERSION:2.0
PRODID:-//Purebred Mini Jersey Society, Inc. - ECPv6.15.20//NONSGML v1.0//EN
CALSCALE:GREGORIAN
METHOD:PUBLISH
X-ORIGINAL-URL:https://purebredminijerseys.org
X-WR-CALDESC:Events for Purebred Mini Jersey Society, Inc.
REFRESH-INTERVAL;VALUE=DURATION:PT1H
X-Robots-Tag:noindex
X-PUBLISHED-TTL:PT1H
BEGIN:VTIMEZONE
TZID:America/Los_Angeles
BEGIN:DAYLIGHT
TZOFFSETFROM:-0800
TZOFFSETTO:-0700
TZNAME:PDT
DTSTART:20240310T100000
END:DAYLIGHT
BEGIN:STANDARD
TZOFFSETFROM:-0700
TZOFFSETTO:-0800
TZNAME:PST
DTSTART:20241103T090000
END:STANDARD
BEGIN:DAYLIGHT
TZOFFSETFROM:-0800
TZOFFSETTO:-0700
TZNAME:PDT
DTSTART:20250309T100000
END:DAYLIGHT
BEGIN:STANDARD
TZOFFSETFROM:-0700
TZOFFSETTO:-0800
TZNAME:PST
DTSTART:20251102T090000
END:STANDARD
BEGIN:DAYLIGHT
TZOFFSETFROM:-0800
TZOFFSETTO:-0700
TZNAME:PDT
DTSTART:20260308T100000
END:DAYLIGHT
BEGIN:STANDARD
TZOFFSETFROM:-0700
TZOFFSETTO:-0800
TZNAME:PST
DTSTART:20261101T090000
END:STANDARD
END:VTIMEZONE
BEGIN:VEVENT
DTSTART;TZID=America/Los_Angeles:20250116T170000
DTEND;TZID=America/Los_Angeles:20250116T180000
DTSTAMP:20260424T122708
CREATED:20240802T152229Z
LAST-MODIFIED:20260205T225520Z
UID:4486-1737046800-1737050400@purebredminijerseys.org
SUMMARY:Webinar: 10 Bovine Diseases; A Deeper Dive
DESCRIPTION:Presented by Lorinda Barnes\, North Woods Homestead \n\n\n\nPreviously we learned about how to test our Purebred Mini Jerseys for common diseases. In this webinar learn about disease signs and symptoms\, management and implications for milk consumption. \n\n\n\nHandout\n\n\n\nThe PDF version of the presentation includes clickable links: \n\n\n\n10 Bovine Diseases PresentationDownload\n\n\n\nReplay
URL:https://purebredminijerseys.org/event/understanding-common-cattle-diseases/
CATEGORIES:Webinars
ATTACH;FMTTYPE=image/jpeg:https://purebredminijerseys.org/wp-content/uploads/2024/08/10-Bovine-Diseases.jpg
END:VEVENT
END:VCALENDAR