BEGIN:VCALENDAR
VERSION:2.0
PRODID:-//Purebred Mini Jersey Society, Inc. - ECPv6.15.20//NONSGML v1.0//EN
CALSCALE:GREGORIAN
METHOD:PUBLISH
X-WR-CALNAME:Purebred Mini Jersey Society, Inc.
X-ORIGINAL-URL:https://purebredminijerseys.org
X-WR-CALDESC:Events for Purebred Mini Jersey Society, Inc.
REFRESH-INTERVAL;VALUE=DURATION:PT1H
X-Robots-Tag:noindex
X-PUBLISHED-TTL:PT1H
BEGIN:VTIMEZONE
TZID:America/Los_Angeles
BEGIN:DAYLIGHT
TZOFFSETFROM:-0800
TZOFFSETTO:-0700
TZNAME:PDT
DTSTART:20230312T100000
END:DAYLIGHT
BEGIN:STANDARD
TZOFFSETFROM:-0700
TZOFFSETTO:-0800
TZNAME:PST
DTSTART:20231105T090000
END:STANDARD
BEGIN:DAYLIGHT
TZOFFSETFROM:-0800
TZOFFSETTO:-0700
TZNAME:PDT
DTSTART:20240310T100000
END:DAYLIGHT
BEGIN:STANDARD
TZOFFSETFROM:-0700
TZOFFSETTO:-0800
TZNAME:PST
DTSTART:20241103T090000
END:STANDARD
BEGIN:DAYLIGHT
TZOFFSETFROM:-0800
TZOFFSETTO:-0700
TZNAME:PDT
DTSTART:20250309T100000
END:DAYLIGHT
BEGIN:STANDARD
TZOFFSETFROM:-0700
TZOFFSETTO:-0800
TZNAME:PST
DTSTART:20251102T090000
END:STANDARD
END:VTIMEZONE
BEGIN:VEVENT
DTSTART;TZID=America/Los_Angeles:20240607T090000
DTEND;TZID=America/Los_Angeles:20240608T170000
DTSTAMP:20260424T040209
CREATED:20240508T054623Z
LAST-MODIFIED:20240508T054626Z
UID:3314-1717750800-1717866000@purebredminijerseys.org
SUMMARY:3rd annual The Homestead Festival
DESCRIPTION:PMJS board members will have a booth at the festival\, which includes 25+ knowledgable industry speakers\, demonstrations with skilled artisans and 200+ homestead related vendors\, plus food vendors\, a children’s area and live music at lunch and each night.
URL:https://purebredminijerseys.org/event/3rd-annual-the-homestead-festival/
LOCATION:Hardison Mill\, 4544 US-431\, Columbia\, Tennessee\, 38401\, United States
CATEGORIES:In Person Events
ATTACH;FMTTYPE=image/webp:https://purebredminijerseys.org/wp-content/uploads/2024/05/d7406c_904601b25ba1431eb3bd01081992296emv2.webp
END:VEVENT
BEGIN:VEVENT
DTSTART;TZID=America/Los_Angeles:20240620T160000
DTEND;TZID=America/Los_Angeles:20240620T164500
DTSTAMP:20260424T040209
CREATED:20240223T042015Z
LAST-MODIFIED:20260205T225656Z
UID:1991-1718899200-1718901900@purebredminijerseys.org
SUMMARY:Webinar: Answers About Mini Jerseys for Beginners
DESCRIPTION:Presented by: Purebred Mini Jersey Society Board Members \n\n\n\nIf you’ve been all over the internet trying to get your questions answered then this is the webinar for you! We invite you to sit down with a newbie to help her\, and you\, get answers from some more experienced Purebred Mini Jersey dairy cow owners.
URL:https://purebredminijerseys.org/event/answers-about-mini-jerseys-for-beginners/
CATEGORIES:Webinars
ATTACH;FMTTYPE=image/jpeg:https://purebredminijerseys.org/wp-content/uploads/2024/02/Answers-About-Mini-Jerseys-for-Beginners-Cover.jpg
END:VEVENT
END:VCALENDAR