BEGIN:VCALENDAR
VERSION:2.0
PRODID:-//Purebred Mini Jersey Society, Inc. - ECPv6.15.20//NONSGML v1.0//EN
CALSCALE:GREGORIAN
METHOD:PUBLISH
X-ORIGINAL-URL:https://purebredminijerseys.org
X-WR-CALDESC:Events for Purebred Mini Jersey Society, Inc.
REFRESH-INTERVAL;VALUE=DURATION:PT1H
X-Robots-Tag:noindex
X-PUBLISHED-TTL:PT1H
BEGIN:VTIMEZONE
TZID:America/Los_Angeles
BEGIN:DAYLIGHT
TZOFFSETFROM:-0800
TZOFFSETTO:-0700
TZNAME:PDT
DTSTART:20230312T100000
END:DAYLIGHT
BEGIN:STANDARD
TZOFFSETFROM:-0700
TZOFFSETTO:-0800
TZNAME:PST
DTSTART:20231105T090000
END:STANDARD
BEGIN:DAYLIGHT
TZOFFSETFROM:-0800
TZOFFSETTO:-0700
TZNAME:PDT
DTSTART:20240310T100000
END:DAYLIGHT
BEGIN:STANDARD
TZOFFSETFROM:-0700
TZOFFSETTO:-0800
TZNAME:PST
DTSTART:20241103T090000
END:STANDARD
BEGIN:DAYLIGHT
TZOFFSETFROM:-0800
TZOFFSETTO:-0700
TZNAME:PDT
DTSTART:20250309T100000
END:DAYLIGHT
BEGIN:STANDARD
TZOFFSETFROM:-0700
TZOFFSETTO:-0800
TZNAME:PST
DTSTART:20251102T090000
END:STANDARD
END:VTIMEZONE
BEGIN:VEVENT
DTSTART;TZID=America/Los_Angeles:20240523T160000
DTEND;TZID=America/Los_Angeles:20240523T164500
DTSTAMP:20260419T165908
CREATED:20240223T041727Z
LAST-MODIFIED:20260205T225705Z
UID:1989-1716480000-1716482700@purebredminijerseys.org
SUMMARY:Webinar: Decoding a Genomics Report
DESCRIPTION:Genomics has been used by Jersey breeders since 2007. Learn how to read the acronyms and have definitions for the unfamiliar terms. An understanding of the Genomic Evaluation Report will help you utilize genomics for apple-to-apple comparisons\, read bull stats\, determine your breeding goals\, and decide who your best cattle are before they’re in milk. \n\n\n\nPresented by: Lorinda Barnes\, North Woods Homestead \n\n\n\nClass Resources\n\n\n\n\nMy Journey with Genomics and BBR for the Evolution of My Dairy Herd\n\n\n\nWhat Does BBR 100 Mean? \n\n\n\nHow A2 and Polled Genetics Work in Breeding Mini Jerseys\n\n\n\n\nReplay
URL:https://purebredminijerseys.org/event/decoding-a-genomics-report/
CATEGORIES:Webinars
ATTACH;FMTTYPE=image/jpeg:https://purebredminijerseys.org/wp-content/uploads/2024/06/decoding-a-genomics-report.jpg
END:VEVENT
END:VCALENDAR