BEGIN:VCALENDAR
VERSION:2.0
PRODID:-//Purebred Mini Jersey Society, Inc. - ECPv6.15.20//NONSGML v1.0//EN
CALSCALE:GREGORIAN
METHOD:PUBLISH
X-WR-CALNAME:Purebred Mini Jersey Society, Inc.
X-ORIGINAL-URL:https://purebredminijerseys.org
X-WR-CALDESC:Events for Purebred Mini Jersey Society, Inc.
REFRESH-INTERVAL;VALUE=DURATION:PT1H
X-Robots-Tag:noindex
X-PUBLISHED-TTL:PT1H
BEGIN:VTIMEZONE
TZID:America/Los_Angeles
BEGIN:DAYLIGHT
TZOFFSETFROM:-0800
TZOFFSETTO:-0700
TZNAME:PDT
DTSTART:20240310T100000
END:DAYLIGHT
BEGIN:STANDARD
TZOFFSETFROM:-0700
TZOFFSETTO:-0800
TZNAME:PST
DTSTART:20241103T090000
END:STANDARD
BEGIN:DAYLIGHT
TZOFFSETFROM:-0800
TZOFFSETTO:-0700
TZNAME:PDT
DTSTART:20250309T100000
END:DAYLIGHT
BEGIN:STANDARD
TZOFFSETFROM:-0700
TZOFFSETTO:-0800
TZNAME:PST
DTSTART:20251102T090000
END:STANDARD
BEGIN:DAYLIGHT
TZOFFSETFROM:-0800
TZOFFSETTO:-0700
TZNAME:PDT
DTSTART:20260308T100000
END:DAYLIGHT
BEGIN:STANDARD
TZOFFSETFROM:-0700
TZOFFSETTO:-0800
TZNAME:PST
DTSTART:20261101T090000
END:STANDARD
BEGIN:DAYLIGHT
TZOFFSETFROM:-0800
TZOFFSETTO:-0700
TZNAME:PDT
DTSTART:20270314T100000
END:DAYLIGHT
BEGIN:STANDARD
TZOFFSETFROM:-0700
TZOFFSETTO:-0800
TZNAME:PST
DTSTART:20271107T090000
END:STANDARD
END:VTIMEZONE
BEGIN:VEVENT
DTSTART;TZID=America/Los_Angeles:20250717T170000
DTEND;TZID=America/Los_Angeles:20250717T180000
DTSTAMP:20260424T082914
CREATED:20250219T173609Z
LAST-MODIFIED:20260205T225451Z
UID:5452-1752771600-1752775200@purebredminijerseys.org
SUMMARY:Webinar: Caring for Mini Jersey Calves
DESCRIPTION:Presented by PMJS President\, Lorinda Barnes\, North Woods Homestead\, LLC\, Idaho
URL:https://purebredminijerseys.org/event/caring-for-mini-jersey-calves/
CATEGORIES:Webinars
ATTACH;FMTTYPE=image/png:https://purebredminijerseys.org/wp-content/uploads/2025/02/Caring-for-a-Mini-Jersey-Calf-Webinar.png
END:VEVENT
BEGIN:VEVENT
DTSTART;TZID=America/Los_Angeles:20250925T170000
DTEND;TZID=America/Los_Angeles:20250925T180000
DTSTAMP:20260424T082914
CREATED:20250219T174019Z
LAST-MODIFIED:20260205T225424Z
UID:5454-1758819600-1758823200@purebredminijerseys.org
SUMMARY:Webinar: Utilizing Milk in Holiday Cooking and Gifting
DESCRIPTION:Presented by Hannah Isaacson\, PMJS Secretary\, Isaacson Acres\, Georgia
URL:https://purebredminijerseys.org/event/utilizing-milk-in-holiday-cooking-and-gifting/
CATEGORIES:Webinars
ATTACH;FMTTYPE=image/png:https://purebredminijerseys.org/wp-content/uploads/2025/02/Utilizing-Milk-In-Holiday-Cooking-Gifting.png
END:VEVENT
BEGIN:VEVENT
DTSTART;TZID=America/Los_Angeles:20251120T170000
DTEND;TZID=America/Los_Angeles:20251120T180000
DTSTAMP:20260424T082914
CREATED:20250404T151802Z
LAST-MODIFIED:20260205T204303Z
UID:5593-1763658000-1763661600@purebredminijerseys.org
SUMMARY:Webinar: Record Keeping for Dairy Cattle
DESCRIPTION:
URL:https://purebredminijerseys.org/event/record-keeping-for-dairy-cattle-2/
CATEGORIES:Webinars
ATTACH;FMTTYPE=image/jpeg:https://purebredminijerseys.org/wp-content/uploads/2025/04/Cover-Recordkeeping-for-Dairy-Cattle.jpg
END:VEVENT
BEGIN:VEVENT
DTSTART;TZID=America/Los_Angeles:20260129T170000
DTEND;TZID=America/Los_Angeles:20260129T180000
DTSTAMP:20260424T082914
CREATED:20260117T212113Z
LAST-MODIFIED:20260205T203755Z
UID:6457-1769706000-1769709600@purebredminijerseys.org
SUMMARY:Webinar: Tailored Nutrition for Dairy Cattle by Redmond Ag
DESCRIPTION:Presented by Aaron Elison\, Redmond’s Ag sales team leader with Hannah Isaacson\, PMJS Secretary\, Isaacson Acres\, Georgia. \n\n\n\nUnlock the secrets to peak health for your Mini Jerseys! Expert insights from Aaron Elison and Hannah Isaacson on supplementation strategies to boost milk production\, health\, and herd vitality. \n\n\n\n“We are farmers\,” says Aaron Elison. “This stuff is in our blood. This is our passion… We almost feel kind of a sacred stewardship because of the role agriculture plays to feed the world.” \n\n\n\nRedmond Agriculture is passionate about healthier livestock through superior feed. \n\n\n\n\n\n\n\n\nWhen you shop Redmond through PMJS’s link you get a 15% discount and you help support PMJS with a small commission on your order\, at no extra cost to you! Get your discount here.
URL:https://purebredminijerseys.org/event/tailored-nutrition-for-dairy-cattle-by-redmond-ag/
CATEGORIES:Webinars
ATTACH;FMTTYPE=image/jpeg:https://purebredminijerseys.org/wp-content/uploads/2026/01/Tailored-Nutrition-for-Dairy-Cattle-Cover.jpg
END:VEVENT
BEGIN:VEVENT
DTSTART;TZID=America/Los_Angeles:20260319T170000
DTEND;TZID=America/Los_Angeles:20260319T180000
DTSTAMP:20260424T082914
CREATED:20260131T145420Z
LAST-MODIFIED:20260131T145424Z
UID:6462-1773939600-1773943200@purebredminijerseys.org
SUMMARY:Webinar: Profitability and Financial Planning
DESCRIPTION:More details and registration link coming soon.
URL:https://purebredminijerseys.org/event/webinar-profitability-and-financial-planning/
CATEGORIES:Webinars
END:VEVENT
BEGIN:VEVENT
DTSTART;TZID=America/Los_Angeles:20260401T000000
DTEND;TZID=America/Los_Angeles:20260430T235959
DTSTAMP:20260424T082914
CREATED:20260331T211921Z
LAST-MODIFIED:20260331T213714Z
UID:6932-1775001600-1777593599@purebredminijerseys.org
SUMMARY:PMJS Virtual Cattle Show: Entries Open
DESCRIPTION:
URL:https://purebredminijerseys.org/event/virtual-cattle-show-entries-open/
CATEGORIES:Virtual Events
END:VEVENT
BEGIN:VEVENT
DTSTART;TZID=America/Los_Angeles:20260521T170000
DTEND;TZID=America/Los_Angeles:20260521T180000
DTSTAMP:20260424T082914
CREATED:20260131T145556Z
LAST-MODIFIED:20260131T145601Z
UID:6464-1779382800-1779386400@purebredminijerseys.org
SUMMARY:Webinar: AgroTourism & Educational Farms
DESCRIPTION:More details and registration link coming soon.
URL:https://purebredminijerseys.org/event/webinar-agrotourism-educational-farms/
CATEGORIES:Webinars
END:VEVENT
BEGIN:VEVENT
DTSTART;TZID=America/Los_Angeles:20260522T000000
DTEND;TZID=America/Los_Angeles:20260522T235959
DTSTAMP:20260424T082914
CREATED:20260331T212415Z
LAST-MODIFIED:20260331T212420Z
UID:6935-1779408000-1779494399@purebredminijerseys.org
SUMMARY:PMJS Virtual Cattle Show: T-Shirts Mailed
DESCRIPTION:
URL:https://purebredminijerseys.org/event/pmjs-virtual-cattle-show-t-shirts-mailed/
CATEGORIES:Virtual Events
END:VEVENT
BEGIN:VEVENT
DTSTART;TZID=America/Los_Angeles:20260630T000000
DTEND;TZID=America/Los_Angeles:20260630T235959
DTSTAMP:20260424T082914
CREATED:20260401T172343Z
LAST-MODIFIED:20260401T172347Z
UID:6962-1782777600-1782863999@purebredminijerseys.org
SUMMARY:PMJS Virtual Cattle Show: Submission Deadline
DESCRIPTION:As soon as you have received your official show T-shirt\, you can start taking your photos and videos!
URL:https://purebredminijerseys.org/event/pmjs-virtual-cattle-show-submission-deadline/
CATEGORIES:Virtual Events
END:VEVENT
BEGIN:VEVENT
DTSTART;TZID=America/Los_Angeles:20260712T000000
DTEND;TZID=America/Los_Angeles:20260718T235959
DTSTAMP:20260424T082914
CREATED:20260331T212811Z
LAST-MODIFIED:20260331T212815Z
UID:6937-1783814400-1784419199@purebredminijerseys.org
SUMMARY:PMJS Virtual Cattle Show: Winners Announced
DESCRIPTION:
URL:https://purebredminijerseys.org/event/pmjs-virtual-cattle-show-winners-announced/
CATEGORIES:Virtual Events
END:VEVENT
END:VCALENDAR