BEGIN:VCALENDAR
VERSION:2.0
PRODID:-//Purebred Mini Jersey Society, Inc. - ECPv6.15.20//NONSGML v1.0//EN
CALSCALE:GREGORIAN
METHOD:PUBLISH
X-WR-CALNAME:Purebred Mini Jersey Society, Inc.
X-ORIGINAL-URL:https://purebredminijerseys.org
X-WR-CALDESC:Events for Purebred Mini Jersey Society, Inc.
REFRESH-INTERVAL;VALUE=DURATION:PT1H
X-Robots-Tag:noindex
X-PUBLISHED-TTL:PT1H
BEGIN:VTIMEZONE
TZID:America/Los_Angeles
BEGIN:DAYLIGHT
TZOFFSETFROM:-0800
TZOFFSETTO:-0700
TZNAME:PDT
DTSTART:20230312T100000
END:DAYLIGHT
BEGIN:STANDARD
TZOFFSETFROM:-0700
TZOFFSETTO:-0800
TZNAME:PST
DTSTART:20231105T090000
END:STANDARD
BEGIN:DAYLIGHT
TZOFFSETFROM:-0800
TZOFFSETTO:-0700
TZNAME:PDT
DTSTART:20240310T100000
END:DAYLIGHT
BEGIN:STANDARD
TZOFFSETFROM:-0700
TZOFFSETTO:-0800
TZNAME:PST
DTSTART:20241103T090000
END:STANDARD
BEGIN:DAYLIGHT
TZOFFSETFROM:-0800
TZOFFSETTO:-0700
TZNAME:PDT
DTSTART:20250309T100000
END:DAYLIGHT
BEGIN:STANDARD
TZOFFSETFROM:-0700
TZOFFSETTO:-0800
TZNAME:PST
DTSTART:20251102T090000
END:STANDARD
END:VTIMEZONE
BEGIN:VEVENT
DTSTART;TZID=America/Los_Angeles:20240425T160000
DTEND;TZID=America/Los_Angeles:20240425T164500
DTSTAMP:20260419T215651
CREATED:20240223T040940Z
LAST-MODIFIED:20260205T225716Z
UID:1975-1714060800-1714063500@purebredminijerseys.org
SUMMARY:Webinar: All About AI Breeding
DESCRIPTION:Breeding by Artificial Insemination is easier and safer than keeping a bull on most family farms and homesteads. Learn where to find an AI Tech\, how to order Purebred Mini Jersey straws\, storage\, expenses\, what to expect when the AI Tech shows up\, how to help a pregnancy result\, pitfalls\, and options for pregnancy testing. \n\n\n\nPresented by: Ashley Shupe\, Shupe Farms\, & Sarah Burton\, Sabbaticus Farm \n\n\n\nClass Resources\n\n\n\n\nSelecting the Ideal Purebred Mini Jersey Bull for Breeding\n\n\n\nCharacteristics of a Good Bull\n\n\n\nAI Breeding Protocols\n\n\n\nAI Tech School Grant Application\n\n\n\n\nReplay
URL:https://purebredminijerseys.org/event/all-about-ai-breeding/
CATEGORIES:Webinars
END:VEVENT
BEGIN:VEVENT
DTSTART;TZID=America/Los_Angeles:20240321T160000
DTEND;TZID=America/Los_Angeles:20240321T164500
DTSTAMP:20260419T215651
CREATED:20240223T035706Z
LAST-MODIFIED:20260205T225725Z
UID:1970-1711036800-1711039500@purebredminijerseys.org
SUMMARY:Webinar: Buying & Selling Mini Jerseys
DESCRIPTION:Class Resources\n\n\n\nArticle: Buying & Selling Stock \n\n\n\nBlog Post: My Mini Jersey Buying Experience \n\n\n\nClass Handout: Coming Soon! \n\n\n\nReplay\n\n\n\n\n\n\n\n\n\nPresented by: Lorinda Barnes\, North Woods Homestead
URL:https://purebredminijerseys.org/event/buying-selling-mini-jerseys/
CATEGORIES:Webinars
END:VEVENT
BEGIN:VEVENT
DTSTART;TZID=America/Los_Angeles:20240215T080000
DTEND;TZID=America/Los_Angeles:20240215T084500
DTSTAMP:20260419T215651
CREATED:20240127T085709Z
LAST-MODIFIED:20260205T225732Z
UID:1733-1707984000-1707986700@purebredminijerseys.org
SUMMARY:Webinar: Body Condition Scoring
DESCRIPTION:Presented by Sarah Burton\, Sabbaticus Farm \n\n\n\nClass Resources\n\n\n\n\nPresentation Slides\n\n\n\n\nReplay
URL:https://purebredminijerseys.org/event/monthly-zoom-class-body-condition-scoring/
CATEGORIES:Webinars
ATTACH;FMTTYPE=image/webp:https://purebredminijerseys.org/wp-content/uploads/2024/01/Join_PMJS_for_our_first_Book_Club__We_ll_be_reading_Homestead_Cows_.jpg.webp
END:VEVENT
BEGIN:VEVENT
DTSTART;TZID=America/Los_Angeles:20240118T080000
DTEND;TZID=America/Los_Angeles:20240118T084500
DTSTAMP:20260419T215651
CREATED:20240127T105737Z
LAST-MODIFIED:20260205T225744Z
UID:1735-1705564800-1705567500@purebredminijerseys.org
SUMMARY:Webinar: Genetic Traits\, Genomics\, And Disease Testing of Dairy Cattle
DESCRIPTION:Presented by Lorinda Barnes\, North Woods Homestead \n\n\n\nClass Resources\n\n\n\nBlog: Testing for PMJS Registration \n\n\n\nTesting Resources \n\n\n\nClass Handout \n\n\n\nReplay
URL:https://purebredminijerseys.org/event/genetic-traits-genomics-and-disease-testing-of-dairy-cattle/
CATEGORIES:Webinars
ATTACH;FMTTYPE=image/png:https://purebredminijerseys.org/wp-content/uploads/2024/01/Mini-Jersey-Junies-class-11824-.png
END:VEVENT
END:VCALENDAR