BEGIN:VCALENDAR
VERSION:2.0
PRODID:-//Purebred Mini Jersey Society, Inc. - ECPv6.15.20//NONSGML v1.0//EN
CALSCALE:GREGORIAN
METHOD:PUBLISH
X-ORIGINAL-URL:https://purebredminijerseys.org
X-WR-CALDESC:Events for Purebred Mini Jersey Society, Inc.
REFRESH-INTERVAL;VALUE=DURATION:PT1H
X-Robots-Tag:noindex
X-PUBLISHED-TTL:PT1H
BEGIN:VTIMEZONE
TZID:America/Los_Angeles
BEGIN:DAYLIGHT
TZOFFSETFROM:-0800
TZOFFSETTO:-0700
TZNAME:PDT
DTSTART:20230312T100000
END:DAYLIGHT
BEGIN:STANDARD
TZOFFSETFROM:-0700
TZOFFSETTO:-0800
TZNAME:PST
DTSTART:20231105T090000
END:STANDARD
BEGIN:DAYLIGHT
TZOFFSETFROM:-0800
TZOFFSETTO:-0700
TZNAME:PDT
DTSTART:20240310T100000
END:DAYLIGHT
BEGIN:STANDARD
TZOFFSETFROM:-0700
TZOFFSETTO:-0800
TZNAME:PST
DTSTART:20241103T090000
END:STANDARD
BEGIN:DAYLIGHT
TZOFFSETFROM:-0800
TZOFFSETTO:-0700
TZNAME:PDT
DTSTART:20250309T100000
END:DAYLIGHT
BEGIN:STANDARD
TZOFFSETFROM:-0700
TZOFFSETTO:-0800
TZNAME:PST
DTSTART:20251102T090000
END:STANDARD
END:VTIMEZONE
BEGIN:VEVENT
DTSTART;TZID=America/Los_Angeles:20241003T160000
DTEND;TZID=America/Los_Angeles:20241003T170000
DTSTAMP:20260424T094625
CREATED:20240802T151746Z
LAST-MODIFIED:20260205T225552Z
UID:4481-1727971200-1727974800@purebredminijerseys.org
SUMMARY:Webinar: Quality Hay – The Foundation of Dairy Cattle Nutrition
DESCRIPTION:Quality hay should be the foundation for all dairy cattle nutrition. Learn what makes good hay and what to avoid\, how much to buy and feed\, how to get it home\, and stack it for storage. Presented by PMJS and created by Lorinda Barnes of North Woods Homestead\, ID.
URL:https://purebredminijerseys.org/event/quality-hay-the-foundation-of-dairy-cattle-nutrition/
CATEGORIES:Webinars
ATTACH;FMTTYPE=image/png:https://purebredminijerseys.org/wp-content/uploads/2024/08/Quality-Hay-The-Foundation-of-Dairy-Cattle-Nutrition.png
END:VEVENT
END:VCALENDAR